BEGIN:VCALENDAR
VERSION:2.0
PRODID:-//Region 9 Education Cooperative - ECPv6.15.17.1//NONSGML v1.0//EN
CALSCALE:GREGORIAN
METHOD:PUBLISH
X-WR-CALNAME:Region 9 Education Cooperative
X-ORIGINAL-URL:https://www.rec9nm.org
X-WR-CALDESC:Events for Region 9 Education Cooperative
REFRESH-INTERVAL;VALUE=DURATION:PT1H
X-Robots-Tag:noindex
X-PUBLISHED-TTL:PT1H
BEGIN:VTIMEZONE
TZID:America/Boise
BEGIN:DAYLIGHT
TZOFFSETFROM:-0700
TZOFFSETTO:-0600
TZNAME:MDT
DTSTART:20240310T090000
END:DAYLIGHT
BEGIN:STANDARD
TZOFFSETFROM:-0600
TZOFFSETTO:-0700
TZNAME:MST
DTSTART:20241103T080000
END:STANDARD
BEGIN:DAYLIGHT
TZOFFSETFROM:-0700
TZOFFSETTO:-0600
TZNAME:MDT
DTSTART:20250309T090000
END:DAYLIGHT
BEGIN:STANDARD
TZOFFSETFROM:-0600
TZOFFSETTO:-0700
TZNAME:MST
DTSTART:20251102T080000
END:STANDARD
BEGIN:DAYLIGHT
TZOFFSETFROM:-0700
TZOFFSETTO:-0600
TZNAME:MDT
DTSTART:20260308T090000
END:DAYLIGHT
BEGIN:STANDARD
TZOFFSETFROM:-0600
TZOFFSETTO:-0700
TZNAME:MST
DTSTART:20261101T080000
END:STANDARD
END:VTIMEZONE
BEGIN:VEVENT
DTSTART;VALUE=DATE:20251105
DTEND;VALUE=DATE:20251106
DTSTAMP:20260421T232518
CREATED:20251114T060709Z
LAST-MODIFIED:20251114T060709Z
UID:10000078-1762300800-1762387199@www.rec9nm.org
SUMMARY:In-Person - Academic Competition-Ruidoso
DESCRIPTION:
URL:https://www.rec9nm.org/calendar-event/in-person-academic-competition-ruidoso
LOCATION:NM
END:VEVENT
BEGIN:VEVENT
DTSTART;VALUE=DATE:20251107
DTEND;VALUE=DATE:20251109
DTSTAMP:20260421T232518
CREATED:20250808T005328Z
LAST-MODIFIED:20250808T005328Z
UID:10000059-1762473600-1762646399@www.rec9nm.org
SUMMARY:Mobility & Positioning Conference: In-Person
DESCRIPTION:
URL:https://www.rec9nm.org/calendar-event/mobility-positioning-conference-in-person
LOCATION:NM
END:VEVENT
BEGIN:VEVENT
DTSTART;VALUE=DATE:20251107
DTEND;VALUE=DATE:20251109
DTSTAMP:20260421T232518
CREATED:20250830T180913Z
LAST-MODIFIED:20250830T180913Z
UID:10000066-1762473600-1762646399@www.rec9nm.org
SUMMARY:In Person - Mobility & Positioning Conference
DESCRIPTION:
URL:https://www.rec9nm.org/calendar-event/in-person-mobility-positioning-conference
LOCATION:NM
END:VEVENT
BEGIN:VEVENT
DTSTART;VALUE=DATE:20251112
DTEND;VALUE=DATE:20251113
DTSTAMP:20260421T232518
CREATED:20250830T180947Z
LAST-MODIFIED:20250830T180947Z
UID:10000067-1762905600-1762991999@www.rec9nm.org
SUMMARY:In Person - LETRS Cohort (3 of 8 sessions)
DESCRIPTION:
URL:https://www.rec9nm.org/calendar-event/in-person-letrs-cohort-3-of-8-sessions
LOCATION:NM
END:VEVENT
BEGIN:VEVENT
DTSTART;VALUE=DATE:20251119
DTEND;VALUE=DATE:20251120
DTSTAMP:20260421T232518
CREATED:20250730T214000Z
LAST-MODIFIED:20250925T184117Z
UID:10000037-1763510400-1763596799@www.rec9nm.org
SUMMARY:Coordinating Council Meeting
DESCRIPTION:Join Zoom Meeting
URL:https://www.rec9nm.org/calendar-event/coordinating-council-meeting-14
LOCATION:Virtual
END:VEVENT
BEGIN:VEVENT
DTSTART;VALUE=DATE:20251124
DTEND;VALUE=DATE:20251129
DTSTAMP:20260421T232518
CREATED:20250730T215850Z
LAST-MODIFIED:20250730T215850Z
UID:10000046-1763942400-1764374399@www.rec9nm.org
SUMMARY:Thanksgiving Holiday
DESCRIPTION:
URL:https://www.rec9nm.org/calendar-event/thanksgiving-holiday
LOCATION:NM
END:VEVENT
BEGIN:VEVENT
DTSTART;VALUE=DATE:20251127
DTEND;VALUE=DATE:20251128
DTSTAMP:20260421T232518
CREATED:20251114T061352Z
LAST-MODIFIED:20251114T061352Z
UID:10000079-1764201600-1764287999@www.rec9nm.org
SUMMARY:Hybrid - PIECE Meeting
DESCRIPTION:Join Zoom Meeting
URL:https://www.rec9nm.org/calendar-event/hybrid-piece-meeting
LOCATION:NM
END:VEVENT
END:VCALENDAR