BEGIN:VCALENDAR
VERSION:2.0
PRODID:-//Region 9 Education Cooperative - ECPv6.15.17.1//NONSGML v1.0//EN
CALSCALE:GREGORIAN
METHOD:PUBLISH
X-ORIGINAL-URL:https://www.rec9nm.org
X-WR-CALDESC:Events for Region 9 Education Cooperative
REFRESH-INTERVAL;VALUE=DURATION:PT1H
X-Robots-Tag:noindex
X-PUBLISHED-TTL:PT1H
BEGIN:VTIMEZONE
TZID:America/Boise
BEGIN:DAYLIGHT
TZOFFSETFROM:-0700
TZOFFSETTO:-0600
TZNAME:MDT
DTSTART:20240310T090000
END:DAYLIGHT
BEGIN:STANDARD
TZOFFSETFROM:-0600
TZOFFSETTO:-0700
TZNAME:MST
DTSTART:20241103T080000
END:STANDARD
BEGIN:DAYLIGHT
TZOFFSETFROM:-0700
TZOFFSETTO:-0600
TZNAME:MDT
DTSTART:20250309T090000
END:DAYLIGHT
BEGIN:STANDARD
TZOFFSETFROM:-0600
TZOFFSETTO:-0700
TZNAME:MST
DTSTART:20251102T080000
END:STANDARD
BEGIN:DAYLIGHT
TZOFFSETFROM:-0700
TZOFFSETTO:-0600
TZNAME:MDT
DTSTART:20260308T090000
END:DAYLIGHT
BEGIN:STANDARD
TZOFFSETFROM:-0600
TZOFFSETTO:-0700
TZNAME:MST
DTSTART:20261101T080000
END:STANDARD
BEGIN:DAYLIGHT
TZOFFSETFROM:-0700
TZOFFSETTO:-0600
TZNAME:MDT
DTSTART:20270314T090000
END:DAYLIGHT
BEGIN:STANDARD
TZOFFSETFROM:-0600
TZOFFSETTO:-0700
TZNAME:MST
DTSTART:20271107T080000
END:STANDARD
END:VTIMEZONE
BEGIN:VEVENT
DTSTART;VALUE=DATE:20251210
DTEND;VALUE=DATE:20251211
DTSTAMP:20260421T215449
CREATED:20251114T061511Z
LAST-MODIFIED:20251114T061511Z
UID:10000080-1765324800-1765411199@www.rec9nm.org
SUMMARY:In-Person - LETRS Cohort (4 of 8 sessions)
DESCRIPTION:
URL:https://www.rec9nm.org/calendar-event/in-person-letrs-cohort-4-of-8-sessions-2
LOCATION:NM
END:VEVENT
BEGIN:VEVENT
DTSTART;VALUE=DATE:20251217
DTEND;VALUE=DATE:20251218
DTSTAMP:20260421T215449
CREATED:20251114T061759Z
LAST-MODIFIED:20251114T061759Z
UID:10000081-1765929600-1766015999@www.rec9nm.org
SUMMARY:Hybrid - LCJJB
DESCRIPTION:Join Zoom Meeting
URL:https://www.rec9nm.org/calendar-event/hybrid-lcjjb
LOCATION:NM
END:VEVENT
BEGIN:VEVENT
DTSTART;VALUE=DATE:20251217
DTEND;VALUE=DATE:20251218
DTSTAMP:20260421T215449
CREATED:20251114T061958Z
LAST-MODIFIED:20251114T061958Z
UID:10000082-1765929600-1766015999@www.rec9nm.org
SUMMARY:Hybrid - Coordinating Council
DESCRIPTION:Join Zoom Meeting
URL:https://www.rec9nm.org/calendar-event/hybrid-coordinating-council
LOCATION:NM
END:VEVENT
BEGIN:VEVENT
DTSTART;VALUE=DATE:20251222
DTEND;VALUE=DATE:20260103
DTSTAMP:20260421T215449
CREATED:20250730T220014Z
LAST-MODIFIED:20250730T220014Z
UID:10000047-1766361600-1767398399@www.rec9nm.org
SUMMARY:Winter Break/Holiday
DESCRIPTION:
URL:https://www.rec9nm.org/calendar-event/winter-break-holiday
LOCATION:NM
END:VEVENT
END:VCALENDAR